BEGIN:VCALENDAR
VERSION:2.0
PRODID:-//Blog Londrina - ECPv4.9.2//NONSGML v1.0//EN
CALSCALE:GREGORIAN
METHOD:PUBLISH
X-WR-CALNAME:Blog Londrina
X-ORIGINAL-URL:https://blog.londrina.pr.gov.br
X-WR-CALDESC:Eventos para Blog Londrina
BEGIN:VEVENT
DTSTART;TZID=America/Sao_Paulo:20190510T200000
DTEND;TZID=America/Sao_Paulo:20190512T200000
DTSTAMP:20260424T153809
CREATED:20190508T203950Z
LAST-MODIFIED:20190508T203950Z
UID:53015-1557518400-1557691200@blog.londrina.pr.gov.br
SUMMARY:Ballet de Londrina - Espetáculo “Oração pelo fim do mundo”
DESCRIPTION:O Ballet de Londrina realiza uma curta temporada do espetáculo “Oração pelo fim do mundo”\, nesta sexta\, sábado e domingo (10\, 11 e 12 de maio). Será sempre às 20 horas\, na Sala Marcos Leão\, da Funcart (Rua Souza Naves\, 2380). \nUma oportunidade de ver e rever a coreografia em um ambiente intimista\, que envolve o público no contexto da dança\, e a um valor acessível: o ingresso é vendido por quanto o espectador puder ou quiser pagar\, com preço apenas indicativo de R$ 20. \nCada sessão contará apenas com 80 pessoas na plateia e a bilheteria será aberta diariamente às 19 horas. 50% dos ingressos são destinados a reservas antecipadas\, que já podem ser feitas pelo whatsapp (43) 99168-3972 e precisam ser retiradas\, no máximo\, até as 19h30. A classificação indicativa é de 16 anos. \n
URL:https://blog.londrina.pr.gov.br/?tribe_events=ballet-de-londrina-espetaculo-oracao-pelo-fim-do-mundo
LOCATION:Funcart\, Rua Senador Souza Naves\, 2.380\, Londrina\, PR\, 86015-430\, Brazil
CATEGORIES:Cultura
END:VEVENT
END:VCALENDAR