BEGIN:VCALENDAR
VERSION:2.0
PRODID:-//Blog Londrina - ECPv4.9.2//NONSGML v1.0//EN
CALSCALE:GREGORIAN
METHOD:PUBLISH
X-WR-CALNAME:Blog Londrina
X-ORIGINAL-URL:https://blog.londrina.pr.gov.br
X-WR-CALDESC:Eventos para Blog Londrina
BEGIN:VEVENT
DTSTART;TZID=America/Sao_Paulo:20190517T100000
DTEND;TZID=America/Sao_Paulo:20190517T113000
DTSTAMP:20260425T005224
CREATED:20190513T142301Z
LAST-MODIFIED:20190513T142301Z
UID:53215-1558087200-1558092600@blog.londrina.pr.gov.br
SUMMARY:Contação de história
DESCRIPTION:A Biblioteca Infantil de Londrina promove a contação da história: Histórias de Lep e Sep: 2 corações pulsantes\, de Vilma Rezende\, nesta sexta-feira (17)\, das 10 às 11h30. A atividade é gratuita e objetiva incentivar o hábito da leitura\, além de apresentar conceitos de respeito às diferenças de cada um e o valor da amizade. \nAlém da contação da história\, os participantes também farão atividades de desenho\, pintura e colagem sobre os personagens do livro. Todos os materiais serão fornecidos pela biblioteca. Podem participar crianças com idade mínima de quatro anos. \nAs vagas são limitadas e as inscrições podem ser realizadas pelo telefone 3371-6603\, ou pessoalmente\, na Biblioteca Infantil\, na Praça 1º de Maio\, 110\, centro\, em frente à Concha Acústica\, das 9 às 17 horas. \nA narrativa “Histórias de Lep e Sep: 2 corações pulsantes”\, de Vilma Rezende\, aborda a diversidade\, por meio da história de dois animais da floresta\, de espécies diferentes\, que tornam-se amigos e vivem aventuras incríveis com muita alegria. \n
URL:https://blog.londrina.pr.gov.br/?tribe_events=contacao-de-historia
LOCATION:Biblioteca Infantil de Londrina\, Praça 1º de Maio\, 110\, centro\, Londrina\, PR\, 86010-150\, Brazil
CATEGORIES:Cultura
END:VEVENT
END:VCALENDAR