BEGIN:VCALENDAR
VERSION:2.0
PRODID:-//Blog Londrina - ECPv4.9.2//NONSGML v1.0//EN
CALSCALE:GREGORIAN
METHOD:PUBLISH
X-WR-CALNAME:Blog Londrina
X-ORIGINAL-URL:https://blog.londrina.pr.gov.br
X-WR-CALDESC:Eventos para Blog Londrina
BEGIN:VEVENT
DTSTART;TZID=America/Sao_Paulo:20190516T200000
DTEND;TZID=America/Sao_Paulo:20190519T200000
DTSTAMP:20260424T221152
CREATED:20190515T183755Z
LAST-MODIFIED:20190515T183755Z
UID:53408-1558036800-1558296000@blog.londrina.pr.gov.br
SUMMARY:Espetáculo Poéticas de Terra e Céu
DESCRIPTION:A Vila Usina Cultural recebe o espetáculo Poéticas de Terra e Céu\, de Murilo de Andrade\, de quinta-feira (16) a domingo (19)\, às 20h. A peça consiste em uma apresentação solo de Murilo de Andrade\, que faz um resgate de memórias através de depoimentos pessoais e lembranças de sua infância\, trazendo no enredo referências do universo poético de Manoel de Barros e João Guimarães Rosa. O evento tem classificação etária de 12 anos e a Usina Cultural fica na Avenida Duque de Caxias\, 4.159. \nO espetáculo teve início a partir de projetos iniciados pelo autor na Universidade Estadual de Londrina (UEL)\, onde é Bacharel em Artes Cênicas. Os ingressos são limitados e ofertados pelo sistema Pague Quanto Puder\, sem recomendação mínima ou máxima de valor\, e devem ser adquiridos na bilheteria do local\, a partir das 19 horas. \nO trabalho foi contemplado no último edital de bolsas do Programa Municipal de Incentivo à Cultura (PROMIC)\, da Secretaria Municipal de Cultura. Mais informações sobre o evento no site http://londrinacultura.londrina.pr.gov.br/evento/1575/. \n
URL:https://blog.londrina.pr.gov.br/?tribe_events=espetaculo-poeticas-de-terra-e-ceu
LOCATION:Usina Cultural\, Avenida Duque de Caxias 4.159\, Londrina\, PR\, Brazil
CATEGORIES:Cultura
END:VEVENT
END:VCALENDAR