BEGIN:VCALENDAR
VERSION:2.0
PRODID:-//Blog Londrina - ECPv4.9.2//NONSGML v1.0//EN
CALSCALE:GREGORIAN
METHOD:PUBLISH
X-WR-CALNAME:Blog Londrina
X-ORIGINAL-URL:https://blog.londrina.pr.gov.br
X-WR-CALDESC:Eventos para Blog Londrina
BEGIN:VEVENT
DTSTART;TZID=America/Sao_Paulo:20190511T090000
DTEND;TZID=America/Sao_Paulo:20190511T170000
DTSTAMP:20260424T135119
CREATED:20190509T204553Z
LAST-MODIFIED:20190509T204553Z
UID:53118-1557565200-1557594000@blog.londrina.pr.gov.br
SUMMARY:Feirão da Resistência e da Reforma Agrária
DESCRIPTION:O Canto do MARL sedia\, neste sábado (11)\, a sexta e última edição do projeto Feirão da Resistência e da Reforma Agrária. A feira livre reúne produtos da agroecologia\, e conta com a participação de oficinas culturais\, interativas\, apresentações de samba\, roda de capoeira e performance artística. A comunidade poderá conferir todas as atrações das 9 às 17 horas\, na Avenida Duque de Caxias\, 3.241. \nO Feirão da Resistência e da Reforma Agrária conta com patrocínio da Prefeitura de Londrina\, por meio do Programa Municipal de Incentivo à Cultura (PROMIC). O projeto é resultado do coletivo formado pelo Movimento dos Artistas de Rua de Londrina (MARL)\, integrantes do Movimento dos Trabalhadores Rurais Sem Terra (MST) do norte do Paraná\, do Sindicato dos Jornalistas do Norte do Paraná (SindJor)\, além de artesãos\, feirantes\, artistas de outros grupos culturais e coletivos da cidade. \n
URL:https://blog.londrina.pr.gov.br/?tribe_events=feirao-da-resistencia-e-da-reforma-agraria
LOCATION:Canto do MARL\, Avenida Duque de Caxias\, 3.241\, Londrina\, PR\, Brazil
CATEGORIES:Ação Social,Cultura
END:VEVENT
END:VCALENDAR