BEGIN:VCALENDAR
VERSION:2.0
PRODID:-//Blog Londrina - ECPv4.9.2//NONSGML v1.0//EN
CALSCALE:GREGORIAN
METHOD:PUBLISH
X-WR-CALNAME:Blog Londrina
X-ORIGINAL-URL:https://blog.londrina.pr.gov.br
X-WR-CALDESC:Eventos para Blog Londrina
BEGIN:VEVENT
DTSTART;TZID=America/Sao_Paulo:20190511T200000
DTEND;TZID=America/Sao_Paulo:20190511T200000
DTSTAMP:20260424T123738
CREATED:20190502T205603Z
LAST-MODIFIED:20190502T205603Z
UID:52641-1557604800-1557604800@blog.londrina.pr.gov.br
SUMMARY:Leminskanções
DESCRIPTION:Um espetáculo irá apresentar a genialidade musical de Paulo Leminski\, que produziu cerca de 100 músicas e teve canções gravadas por grandes ícones da música brasileira\, como Caetano Veloso\, Arnaldo Antunes\, Ney Matogrosso\, dentre outros. O show Leminskanções é resultado do trabalho desenvolvido por Estrela Ruiz Leminski por mais de seis anos\, em busca de resgatar o legado musical do pai. \nCom apresentação de Estrela\, Téo Ruiz e banda\, o espetáculo apresenta 14 músicas que integram o CD duplo Leminskanções\, gravado em 2014. O show acontece sábado (11)\, no Cine Teatro Ouro Verde\, com a participação especial de Carlos Careqa. \nA distribuição dos ingressos será feita uma hora antes do início do show. \n
URL:https://blog.londrina.pr.gov.br/?tribe_events=leminskancoes
LOCATION:Cine Teatro Ouro Verde\, RUA MARANHÃO\, 85\, CENTRO\, Londrina\, PR\, Brazil
CATEGORIES:Cultura
END:VEVENT
END:VCALENDAR