BEGIN:VCALENDAR
VERSION:2.0
PRODID:-//Blog Londrina - ECPv4.9.2//NONSGML v1.0//EN
CALSCALE:GREGORIAN
METHOD:PUBLISH
X-WR-CALNAME:Blog Londrina
X-ORIGINAL-URL:https://blog.londrina.pr.gov.br
X-WR-CALDESC:Eventos para Blog Londrina
BEGIN:VEVENT
DTSTART;TZID=America/Sao_Paulo:20190505T150000
DTEND;TZID=America/Sao_Paulo:20190505T190000
DTSTAMP:20260424T222223
CREATED:20190502T210313Z
LAST-MODIFIED:20190502T210313Z
UID:52657-1557068400-1557082800@blog.londrina.pr.gov.br
SUMMARY:Quizomba Itinerante
DESCRIPTION:A tradicional festa Quizomba retorna este ano com novidades. O evento agora será itinerante\, ou seja\, irá percorrer bairros de Londrina com apresentações culturais em espaços públicos. Com temática indígena\, a festa será realizada domingo (5) na Praça Ângelo Kretã\, batizada em homenagem ao cacique kaingang falecido em 1980. \nA programação começa às 15 horas\, com o Quizomberê\, conduzido pelo Bumba meu Boi Estrela da Vila. A atividade é lúdica e voltada para crianças. Às 17 horas\, haverá apresentação do grupo de dança tradicional Nen’ga (Dono da Floresta)\, com o povo Kaingang da Reserva Indígena do Apucaraninha. A DJ Nati Mônaco conduz a festa até as 19 horas\, quando Ana Maria & Tião Carvalho se reúnem com outros músicos de Londrina para fechar a noite. A Praça Ângelo Kretã fica situada na Rua Gessi Eugênio da Silva\, 920\, no Conjunto Maria Cecilia. \nO Quizomba é gratuito\, aberto a toda a comunidade\, e conta com patrocínio da Prefeitura de Londrina\, por meio do Programa Municipal de Incentivo à Cultura (Promic). \n
URL:https://blog.londrina.pr.gov.br/?tribe_events=quizomba-itinerante
LOCATION:Praça  Ângelo Kretã\, Rua Gessi Eugênio da Silva\, 920\, Londrina\, PR\, Brazil
CATEGORIES:Cultura
END:VEVENT
END:VCALENDAR